BEGIN:VCALENDAR
VERSION:2.0
PRODID:Fort Bend County, TX Calendar Creator
METHOD:PUBLISH
BEGIN:VEVENT
DTSTAMP:20260409T042629
DTSTART:20260505T030000
DTEND:20260505T090000
SUMMARY:Constable's Notice of Sale: U.S. Bank, National Association, as Trustee, Successor in Interest to Bank of America, National Association, as Successor by Merger Vs. Dwayne D Bowen and Sandra L Bowen in Re: 14454 Andrea Way Lane, Houston, Texas 77083
DESCRIPTION:
CLASS:PUBLIC
END:VEVENT
END:VCALENDAR
